BEGIN:VCALENDAR
VERSION:2.0
PRODID:-//Plone.org//NONSGML plone.app.event//EN
X-WR-TIMEZONE:Brazil/East
BEGIN:VEVENT
SUMMARY:10ª Ordinária da 2ª Sessão Legislativa da 19ª Legislatura
DTSTART;TZID=Brazil/East;VALUE=DATE-TIME:20220506T090000
DTEND;TZID=Brazil/East;VALUE=DATE-TIME:20220506T110000
DTSTAMP;VALUE=DATE-TIME:20260425T090220Z
UID:64620c8542e3481b9f1d11b51022da84@www.luiscorreia.pi.leg.br
CONTACT:https://sapl.luiscorreia.pi.leg.br/sessao/108
CREATED;VALUE=DATE-TIME:20220511T143229Z
LAST-MODIFIED;VALUE=DATE-TIME:20220511T143325Z
URL:https://www.luiscorreia.pi.leg.br/institucional/eventos/10a-ordinaria-
 da-2a-sessao-legislativa-da-19a-legislatura
END:VEVENT
BEGIN:VTIMEZONE
TZID:Brazil/East
X-LIC-LOCATION:Brazil/East
BEGIN:STANDARD
DTSTART;VALUE=DATE-TIME:20220219T230000
TZNAME:BRT
TZOFFSETFROM:-0200
TZOFFSETTO:-0300
END:STANDARD
END:VTIMEZONE
END:VCALENDAR
