BEGIN:VCALENDAR
VERSION:2.0
PRODID:-//Plone.org//NONSGML plone.app.event//EN
X-WR-TIMEZONE:Brazil/East
BEGIN:VEVENT
SUMMARY:10ª Ordinária da 4ª Sessão Legislativa da 19ª Legislatura
DTSTART;TZID=Brazil/East;VALUE=DATE-TIME:20240503T090000
DTSTAMP;VALUE=DATE-TIME:20260422T075043Z
UID:067445f49b4b43b2a359ab9c0b62a68d@www.luiscorreia.pi.leg.br
CONTACT:https://sapl.luiscorreia.pi.leg.br/sessao/193
CREATED;VALUE=DATE-TIME:20240909T133503Z
LAST-MODIFIED;VALUE=DATE-TIME:20240909T133701Z
URL:https://www.luiscorreia.pi.leg.br/institucional/eventos/10a-ordinaria-
 da-4a-sessao-legislativa-da-19a-legislatura
END:VEVENT
BEGIN:VTIMEZONE
TZID:Brazil/East
X-LIC-LOCATION:Brazil/East
BEGIN:STANDARD
DTSTART;VALUE=DATE-TIME:20240217T230000
TZNAME:BRT
TZOFFSETFROM:-0200
TZOFFSETTO:-0300
END:STANDARD
END:VTIMEZONE
END:VCALENDAR
