BEGIN:VCALENDAR
VERSION:2.0
PRODID:-//Plone.org//NONSGML plone.app.event//EN
X-WR-TIMEZONE:Brazil/East
BEGIN:VEVENT
SUMMARY:12ª Ordinária da 2ª Sessão Legislativa da 19ª Legislatura
DTSTART;TZID=Brazil/East;VALUE=DATE-TIME:20220520T090000
DTEND;TZID=Brazil/East;VALUE=DATE-TIME:20220520T110000
DTSTAMP;VALUE=DATE-TIME:20260425T084302Z
UID:6d129594fcab46f1814ecc61f931eee7@www.luiscorreia.pi.leg.br
CONTACT:https://sapl.luiscorreia.pi.leg.br/sessao/110
CREATED;VALUE=DATE-TIME:20220630T123154Z
LAST-MODIFIED;VALUE=DATE-TIME:20220630T123229Z
URL:https://www.luiscorreia.pi.leg.br/institucional/eventos/12a-ordinaria-
 da-2a-sessao-legislativa-da-19a-legislatura
END:VEVENT
BEGIN:VTIMEZONE
TZID:Brazil/East
X-LIC-LOCATION:Brazil/East
BEGIN:STANDARD
DTSTART;VALUE=DATE-TIME:20220219T230000
TZNAME:BRT
TZOFFSETFROM:-0200
TZOFFSETTO:-0300
END:STANDARD
END:VTIMEZONE
END:VCALENDAR
