BEGIN:VCALENDAR
VERSION:2.0
PRODID:-//Plone.org//NONSGML plone.app.event//EN
X-WR-TIMEZONE:Brazil/East
BEGIN:VEVENT
SUMMARY:13ª Ordinária da 2ª Sessão Legislativa da 19ª Legislatura
DTSTART;TZID=Brazil/East;VALUE=DATE-TIME:20220527T090000
DTEND;TZID=Brazil/East;VALUE=DATE-TIME:20220527T110000
DTSTAMP;VALUE=DATE-TIME:20260425T092850Z
UID:0d2fed3e708e4d6c8431c9d83711772e@www.luiscorreia.pi.leg.br
CONTACT:https://sapl.luiscorreia.pi.leg.br/sessao/112
CREATED;VALUE=DATE-TIME:20220630T123344Z
LAST-MODIFIED;VALUE=DATE-TIME:20220630T124427Z
URL:https://www.luiscorreia.pi.leg.br/institucional/eventos/13a-ordinaria-
 da-2a-sessao-legislativa-da-19a-legislatura
END:VEVENT
BEGIN:VTIMEZONE
TZID:Brazil/East
X-LIC-LOCATION:Brazil/East
BEGIN:STANDARD
DTSTART;VALUE=DATE-TIME:20220219T230000
TZNAME:BRT
TZOFFSETFROM:-0200
TZOFFSETTO:-0300
END:STANDARD
END:VTIMEZONE
END:VCALENDAR
