BEGIN:VCALENDAR
VERSION:2.0
PRODID:-//Plone.org//NONSGML plone.app.event//EN
X-WR-TIMEZONE:Brazil/East
BEGIN:VEVENT
SUMMARY:14ª Ordinária da 4ª Sessão Legislativa da 19ª Legislatura
DTSTART;TZID=Brazil/East;VALUE=DATE-TIME:20240531T090000
DTSTAMP;VALUE=DATE-TIME:20260422T064534Z
UID:4705cbe4b56f41949c1a175f0bbe7509@www.luiscorreia.pi.leg.br
CONTACT:https://sapl.luiscorreia.pi.leg.br/sessao/197
CREATED;VALUE=DATE-TIME:20240909T133846Z
LAST-MODIFIED;VALUE=DATE-TIME:20240909T133921Z
URL:https://www.luiscorreia.pi.leg.br/institucional/eventos/14a-ordinaria-
 da-4a-sessao-legislativa-da-19a-legislatura
END:VEVENT
BEGIN:VTIMEZONE
TZID:Brazil/East
X-LIC-LOCATION:Brazil/East
BEGIN:STANDARD
DTSTART;VALUE=DATE-TIME:20240217T230000
TZNAME:BRT
TZOFFSETFROM:-0200
TZOFFSETTO:-0300
END:STANDARD
END:VTIMEZONE
END:VCALENDAR
