BEGIN:VCALENDAR
VERSION:2.0
PRODID:-//Plone.org//NONSGML plone.app.event//EN
X-WR-TIMEZONE:Brazil/East
BEGIN:VEVENT
SUMMARY:17ª Ordinária da 2ª Sessão Legislativa da 19ª Legislatura
DTSTART;TZID=Brazil/East;VALUE=DATE-TIME:20220701T090000
DTSTAMP;VALUE=DATE-TIME:20260423T115734Z
UID:7229066707f04dc5afe709867d8b3d7d@www.luiscorreia.pi.leg.br
CONTACT:https://sapl.luiscorreia.pi.leg.br/sessao/116
CREATED;VALUE=DATE-TIME:20220708T143511Z
LAST-MODIFIED;VALUE=DATE-TIME:20220708T143530Z
URL:https://www.luiscorreia.pi.leg.br/institucional/eventos/17a-ordinaria-
 da-2a-sessao-legislativa-da-19a-legislatura
END:VEVENT
BEGIN:VTIMEZONE
TZID:Brazil/East
X-LIC-LOCATION:Brazil/East
BEGIN:STANDARD
DTSTART;VALUE=DATE-TIME:20220219T230000
TZNAME:BRT
TZOFFSETFROM:-0200
TZOFFSETTO:-0300
END:STANDARD
END:VTIMEZONE
END:VCALENDAR
