BEGIN:VCALENDAR
VERSION:2.0
PRODID:-//Plone.org//NONSGML plone.app.event//EN
X-WR-TIMEZONE:Brazil/East
BEGIN:VEVENT
SUMMARY:1ª Extraordinária da 3ª Sessão Legislativa da 19ª Legislatura
DTSTART;TZID=Brazil/East;VALUE=DATE-TIME:20230118T090000
DTEND;TZID=Brazil/East;VALUE=DATE-TIME:20230118T110000
DTSTAMP;VALUE=DATE-TIME:20260422T012927Z
UID:73beb52c8aa144edb13292449b090e7f@www.luiscorreia.pi.leg.br
CONTACT:https://sapl.luiscorreia.pi.leg.br/sessao/141
CREATED;VALUE=DATE-TIME:20230117T142446Z
LAST-MODIFIED;VALUE=DATE-TIME:20230117T142454Z
URL:https://www.luiscorreia.pi.leg.br/institucional/eventos/1a-extraordina
 ria-da-3a-sessao-legislativa-da-19a-legislatura
END:VEVENT
BEGIN:VTIMEZONE
TZID:Brazil/East
X-LIC-LOCATION:Brazil/East
BEGIN:DAYLIGHT
DTSTART;VALUE=DATE-TIME:20221016T010000
TZNAME:BRST
TZOFFSETFROM:-0300
TZOFFSETTO:-0200
END:DAYLIGHT
END:VTIMEZONE
END:VCALENDAR
