BEGIN:VCALENDAR
VERSION:2.0
PRODID:-//Plone.org//NONSGML plone.app.event//EN
X-WR-TIMEZONE:Brazil/East
BEGIN:VEVENT
SUMMARY:1ª Solene da 1ª Sessão Legislativa da 20ª Legislatura
DTSTART;TZID=Brazil/East;VALUE=DATE-TIME:20250101T100000
DTEND;TZID=Brazil/East;VALUE=DATE-TIME:20250101T110000
DTSTAMP;VALUE=DATE-TIME:20260422T035458Z
UID:2c9d8b48df8c4d6f8c023dd6c7aaf0fe@www.luiscorreia.pi.leg.br
CONTACT:https://sapl.luiscorreia.pi.leg.br/sessao/209
CREATED;VALUE=DATE-TIME:20250213T025917Z
LAST-MODIFIED;VALUE=DATE-TIME:20250213T025923Z
URL:https://www.luiscorreia.pi.leg.br/institucional/eventos/1a-solene-da-1
 a-sessao-legislativa-da-20a-legislatura
END:VEVENT
BEGIN:VTIMEZONE
TZID:Brazil/East
X-LIC-LOCATION:Brazil/East
BEGIN:DAYLIGHT
DTSTART;VALUE=DATE-TIME:20241020T010000
TZNAME:BRST
TZOFFSETFROM:-0300
TZOFFSETTO:-0200
END:DAYLIGHT
END:VTIMEZONE
END:VCALENDAR
