BEGIN:VCALENDAR
VERSION:2.0
PRODID:-//Plone.org//NONSGML plone.app.event//EN
X-WR-TIMEZONE:Brazil/East
BEGIN:VEVENT
SUMMARY:22ª Ordinária da 4ª Sessão Legislativa da 18ª Legislatura
DTSTART;TZID=Brazil/East;VALUE=DATE-TIME:20200925T090000
DTEND;TZID=Brazil/East;VALUE=DATE-TIME:20200925T110000
DTSTAMP;VALUE=DATE-TIME:20260422T075043Z
UID:766ab9eeeea548f59306dffe64ded5ec@www.luiscorreia.pi.leg.br
CONTACT:https://sapl.luiscorreia.pi.leg.br/sessao/23
CREATED;VALUE=DATE-TIME:20200918T221615Z
DESCRIPTION:22ª Ordinária da 4ª Sessão Legislativa da 18ª Legislatura
 \n
LAST-MODIFIED;VALUE=DATE-TIME:20200918T222519Z
LOCATION:Plenário da Câmara Municipal 
URL:https://www.luiscorreia.pi.leg.br/institucional/eventos/22a-ordinaria-
 da-4a-sessao-legislativa-da-18a-legislatura
END:VEVENT
BEGIN:VTIMEZONE
TZID:Brazil/East
X-LIC-LOCATION:Brazil/East
BEGIN:STANDARD
DTSTART;VALUE=DATE-TIME:20200215T230000
TZNAME:BRT
TZOFFSETFROM:-0200
TZOFFSETTO:-0300
END:STANDARD
END:VTIMEZONE
END:VCALENDAR
