BEGIN:VCALENDAR
VERSION:2.0
PRODID:-//Plone.org//NONSGML plone.app.event//EN
X-WR-TIMEZONE:Brazil/East
BEGIN:VEVENT
SUMMARY:22ª Ordinária da 4ª Sessão Legislativa da 19ª Legislatura
DTSTART;TZID=Brazil/East;VALUE=DATE-TIME:20240823T090000
DTSTAMP;VALUE=DATE-TIME:20260422T075043Z
UID:8f53a67fd9964c6886476a09ee91b034@www.luiscorreia.pi.leg.br
CONTACT:https://sapl.luiscorreia.pi.leg.br/sessao/206
CREATED;VALUE=DATE-TIME:20240909T134720Z
LAST-MODIFIED;VALUE=DATE-TIME:20240909T134826Z
URL:https://www.luiscorreia.pi.leg.br/institucional/eventos/22a-ordinaria-
 da-4a-sessao-legislativa-da-19a-legislatura
END:VEVENT
BEGIN:VTIMEZONE
TZID:Brazil/East
X-LIC-LOCATION:Brazil/East
BEGIN:STANDARD
DTSTART;VALUE=DATE-TIME:20240217T230000
TZNAME:BRT
TZOFFSETFROM:-0200
TZOFFSETTO:-0300
END:STANDARD
END:VTIMEZONE
END:VCALENDAR
