BEGIN:VCALENDAR
VERSION:2.0
PRODID:-//Plone.org//NONSGML plone.app.event//EN
X-WR-TIMEZONE:Brazil/East
BEGIN:VEVENT
SUMMARY:23ª Ordinária da 4ª Sessão Legislativa da 18ª Legislatura
DTSTART;TZID=Brazil/East;VALUE=DATE-TIME:20201002T090000
DTEND;TZID=Brazil/East;VALUE=DATE-TIME:20201002T110000
DTSTAMP;VALUE=DATE-TIME:20260422T075044Z
UID:18a6d205af07465d8b538e7ee21197f8@www.luiscorreia.pi.leg.br
CONTACT:https://sapl.luiscorreia.pi.leg.br/sessao/24
CREATED;VALUE=DATE-TIME:20200928T142948Z
LAST-MODIFIED;VALUE=DATE-TIME:20200928T143002Z
LOCATION:Plenário da Câmara Municipal
URL:https://www.luiscorreia.pi.leg.br/institucional/eventos/23a-ordinaria-
 da-4a-sessao-legislativa-da-18a-legislatura
END:VEVENT
BEGIN:VTIMEZONE
TZID:Brazil/East
X-LIC-LOCATION:Brazil/East
BEGIN:STANDARD
DTSTART;VALUE=DATE-TIME:20200215T230000
TZNAME:BRT
TZOFFSETFROM:-0200
TZOFFSETTO:-0300
END:STANDARD
END:VTIMEZONE
END:VCALENDAR
