BEGIN:VCALENDAR
VERSION:2.0
PRODID:-//Plone.org//NONSGML plone.app.event//EN
X-WR-TIMEZONE:Brazil/East
BEGIN:VEVENT
SUMMARY:24ª Ordinária da 3ª Sessão Legislativa da 19ª Legislatura
DTSTART;TZID=Brazil/East;VALUE=DATE-TIME:20230908T090000
DTEND;TZID=Brazil/East;VALUE=DATE-TIME:20230908T110000
DTSTAMP;VALUE=DATE-TIME:20260425T082708Z
UID:6c4343646f4a46a5a3dc3c96900c1d35@www.luiscorreia.pi.leg.br
CONTACT:https://sapl.luiscorreia.pi.leg.br/sessao/169
CREATED;VALUE=DATE-TIME:20230913T122201Z
LAST-MODIFIED;VALUE=DATE-TIME:20230913T122332Z
URL:https://www.luiscorreia.pi.leg.br/institucional/eventos/24a-ordinaria-
 da-3a-sessao-legislativa-da-19a-legislatura
END:VEVENT
BEGIN:VTIMEZONE
TZID:Brazil/East
X-LIC-LOCATION:Brazil/East
BEGIN:STANDARD
DTSTART;VALUE=DATE-TIME:20230225T230000
TZNAME:BRT
TZOFFSETFROM:-0200
TZOFFSETTO:-0300
END:STANDARD
END:VTIMEZONE
END:VCALENDAR
