BEGIN:VCALENDAR
VERSION:2.0
PRODID:-//Plone.org//NONSGML plone.app.event//EN
X-WR-TIMEZONE:Brazil/East
BEGIN:VEVENT
SUMMARY:28ª Ordinária da 2ª Sessão Legislativa da 19ª Legislatura
DTSTART;TZID=Brazil/East;VALUE=DATE-TIME:20221028T090000
DTSTAMP;VALUE=DATE-TIME:20260422T010749Z
UID:3c6847e2563a4a4898ee017c6197b812@www.luiscorreia.pi.leg.br
CONTACT:https://sapl.luiscorreia.pi.leg.br/sessao/130
CREATED;VALUE=DATE-TIME:20221026T110051Z
LAST-MODIFIED;VALUE=DATE-TIME:20221026T110059Z
URL:https://www.luiscorreia.pi.leg.br/institucional/eventos/28a-ordinaria-
 da-2a-sessao-legislativa-da-19a-legislatura
END:VEVENT
BEGIN:VTIMEZONE
TZID:Brazil/East
X-LIC-LOCATION:Brazil/East
BEGIN:DAYLIGHT
DTSTART;VALUE=DATE-TIME:20221016T010000
TZNAME:BRST
TZOFFSETFROM:-0300
TZOFFSETTO:-0200
END:DAYLIGHT
END:VTIMEZONE
END:VCALENDAR
