BEGIN:VCALENDAR
VERSION:2.0
PRODID:-//Plone.org//NONSGML plone.app.event//EN
X-WR-TIMEZONE:Brazil/East
BEGIN:VEVENT
SUMMARY:29ª Ordinária da 2ª Sessão Legislativa da 19ª Legislatura
DTSTART;TZID=Brazil/East;VALUE=DATE-TIME:20221104T090000
DTSTAMP;VALUE=DATE-TIME:20260425T082708Z
UID:1ab7d20c13284111a397a6d23cce4bc1@www.luiscorreia.pi.leg.br
CONTACT:https://sapl.luiscorreia.pi.leg.br/sessao/131
CREATED;VALUE=DATE-TIME:20221124T134121Z
LAST-MODIFIED;VALUE=DATE-TIME:20221124T134135Z
URL:https://www.luiscorreia.pi.leg.br/institucional/eventos/29a-ordinaria-
 da-2a-sessao-legislativa-da-19a-legislatura
END:VEVENT
BEGIN:VTIMEZONE
TZID:Brazil/East
X-LIC-LOCATION:Brazil/East
BEGIN:DAYLIGHT
DTSTART;VALUE=DATE-TIME:20221016T010000
TZNAME:BRST
TZOFFSETFROM:-0300
TZOFFSETTO:-0200
END:DAYLIGHT
END:VTIMEZONE
END:VCALENDAR
