BEGIN:VCALENDAR
VERSION:2.0
PRODID:-//Plone.org//NONSGML plone.app.event//EN
X-WR-TIMEZONE:Brazil/East
BEGIN:VEVENT
SUMMARY:2ª Ordinária da 1ª Sessão Legislativa da 20ª Legislatura
DTSTART;TZID=Brazil/East;VALUE=DATE-TIME:20250228T090000
DTSTAMP;VALUE=DATE-TIME:20260422T062253Z
UID:2ea6f070d0ed45e88614c73eea88614e@www.luiscorreia.pi.leg.br
CONTACT:https://sapl.luiscorreia.pi.leg.br/sessao/215
CREATED;VALUE=DATE-TIME:20250407T113836Z
LAST-MODIFIED;VALUE=DATE-TIME:20250407T113845Z
URL:https://www.luiscorreia.pi.leg.br/institucional/eventos/2a-ordinaria-d
 a-1a-sessao-legislativa-da-20a-legislatura
END:VEVENT
BEGIN:VTIMEZONE
TZID:Brazil/East
X-LIC-LOCATION:Brazil/East
BEGIN:STANDARD
DTSTART;VALUE=DATE-TIME:20250215T230000
TZNAME:BRT
TZOFFSETFROM:-0200
TZOFFSETTO:-0300
END:STANDARD
END:VTIMEZONE
END:VCALENDAR
