BEGIN:VCALENDAR
VERSION:2.0
PRODID:-//Plone.org//NONSGML plone.app.event//EN
X-WR-TIMEZONE:Brazil/East
BEGIN:VEVENT
SUMMARY:2ª Ordinária da 3ª Sessão Legislativa da 19ª Legislatura
DTSTART;TZID=Brazil/East;VALUE=DATE-TIME:20230224T090000
DTEND;TZID=Brazil/East;VALUE=DATE-TIME:20230224T100000
DTSTAMP;VALUE=DATE-TIME:20260422T062253Z
UID:a506579a04404cfd99815f915db047ec@www.luiscorreia.pi.leg.br
CONTACT:https://sapl.luiscorreia.pi.leg.br/sessao/145
CREATED;VALUE=DATE-TIME:20230713T194007Z
LAST-MODIFIED;VALUE=DATE-TIME:20230713T194044Z
URL:https://www.luiscorreia.pi.leg.br/institucional/eventos/2a-ordinaria-d
 a-3a-sessao-legislativa-da-19a-legislatura
END:VEVENT
BEGIN:VTIMEZONE
TZID:Brazil/East
X-LIC-LOCATION:Brazil/East
BEGIN:DAYLIGHT
DTSTART;VALUE=DATE-TIME:20221016T010000
TZNAME:BRST
TZOFFSETFROM:-0300
TZOFFSETTO:-0200
END:DAYLIGHT
END:VTIMEZONE
END:VCALENDAR
