BEGIN:VCALENDAR
VERSION:2.0
PRODID:-//Plone.org//NONSGML plone.app.event//EN
X-WR-TIMEZONE:Brazil/East
BEGIN:VEVENT
SUMMARY:2ª Solene da 1ª Sessão Legislativa da 20ª Legislatura
DTSTART;TZID=Brazil/East;VALUE=DATE-TIME:20250217T100000
DTSTAMP;VALUE=DATE-TIME:20260425T084302Z
UID:5d502a4289da484bb171a85687db4e9c@www.luiscorreia.pi.leg.br
CONTACT:https://sapl.luiscorreia.pi.leg.br/sessao/213
CREATED;VALUE=DATE-TIME:20250407T113654Z
LAST-MODIFIED;VALUE=DATE-TIME:20250407T113708Z
URL:https://www.luiscorreia.pi.leg.br/institucional/eventos/2a-solene-da-1
 a-sessao-legislativa-da-20a-legislatura
END:VEVENT
BEGIN:VTIMEZONE
TZID:Brazil/East
X-LIC-LOCATION:Brazil/East
BEGIN:STANDARD
DTSTART;VALUE=DATE-TIME:20250215T230000
TZNAME:BRT
TZOFFSETFROM:-0200
TZOFFSETTO:-0300
END:STANDARD
END:VTIMEZONE
END:VCALENDAR
