BEGIN:VCALENDAR
VERSION:2.0
PRODID:-//Plone.org//NONSGML plone.app.event//EN
X-WR-TIMEZONE:Brazil/East
BEGIN:VEVENT
SUMMARY:3ª Extraordinária da 1ª Sessão Legislativa da 20ª Legislatura
DTSTART;TZID=Brazil/East;VALUE=DATE-TIME:20250214T094000
DTEND;TZID=Brazil/East;VALUE=DATE-TIME:20250214T104000
DTSTAMP;VALUE=DATE-TIME:20260422T075043Z
UID:268feae3c507475abbcb3269b2c53d5c@www.luiscorreia.pi.leg.br
CONTACT:https://sapl.luiscorreia.pi.leg.br/sessao/211
CREATED;VALUE=DATE-TIME:20250213T025621Z
LAST-MODIFIED;VALUE=DATE-TIME:20250213T025629Z
URL:https://www.luiscorreia.pi.leg.br/institucional/eventos/3a-extraordina
 ria-da-1a-sessao-legislativa-da-20a-legislatura
END:VEVENT
BEGIN:VTIMEZONE
TZID:Brazil/East
X-LIC-LOCATION:Brazil/East
BEGIN:DAYLIGHT
DTSTART;VALUE=DATE-TIME:20241020T010000
TZNAME:BRST
TZOFFSETFROM:-0300
TZOFFSETTO:-0200
END:DAYLIGHT
END:VTIMEZONE
END:VCALENDAR
