BEGIN:VCALENDAR
VERSION:2.0
PRODID:-//Plone.org//NONSGML plone.app.event//EN
X-WR-TIMEZONE:Brazil/East
BEGIN:VEVENT
SUMMARY:3ª Extraordinária da 2ª Sessão Legislativa da 19ª Legislatura
DTSTART;TZID=Brazil/East;VALUE=DATE-TIME:20220720T090000
DTSTAMP;VALUE=DATE-TIME:20260422T064455Z
UID:295d285971af49fb8708b05e77530528@www.luiscorreia.pi.leg.br
CONTACT:https://sapl.luiscorreia.pi.leg.br/sessao/118
CREATED;VALUE=DATE-TIME:20220722T140910Z
LAST-MODIFIED;VALUE=DATE-TIME:20220722T140921Z
URL:https://www.luiscorreia.pi.leg.br/institucional/eventos/3a-extraordina
 ria-da-2a-sessao-legislativa-da-19a-legislatura
END:VEVENT
BEGIN:VTIMEZONE
TZID:Brazil/East
X-LIC-LOCATION:Brazil/East
BEGIN:STANDARD
DTSTART;VALUE=DATE-TIME:20220219T230000
TZNAME:BRT
TZOFFSETFROM:-0200
TZOFFSETTO:-0300
END:STANDARD
END:VTIMEZONE
END:VCALENDAR
