BEGIN:VCALENDAR
VERSION:2.0
PRODID:-//Plone.org//NONSGML plone.app.event//EN
X-WR-TIMEZONE:Brazil/East
BEGIN:VEVENT
SUMMARY:4ª Ordinária da 3ª Sessão Legislativa da 19ª Legislatura
DTSTART;TZID=Brazil/East;VALUE=DATE-TIME:20230310T090000
DTEND;TZID=Brazil/East;VALUE=DATE-TIME:20230310T100000
DTSTAMP;VALUE=DATE-TIME:20260424T181635Z
UID:187f5629b3064068896ca524878c4b98@www.luiscorreia.pi.leg.br
CONTACT:https://sapl.luiscorreia.pi.leg.br/sessao/147
CREATED;VALUE=DATE-TIME:20230713T194301Z
LAST-MODIFIED;VALUE=DATE-TIME:20230713T194443Z
URL:https://www.luiscorreia.pi.leg.br/institucional/eventos/4a-ordinaria-d
 a-3a-sessao-legislativa-da-19a-legislatura
END:VEVENT
BEGIN:VTIMEZONE
TZID:Brazil/East
X-LIC-LOCATION:Brazil/East
BEGIN:STANDARD
DTSTART;VALUE=DATE-TIME:20230225T230000
TZNAME:BRT
TZOFFSETFROM:-0200
TZOFFSETTO:-0300
END:STANDARD
END:VTIMEZONE
END:VCALENDAR
