BEGIN:VCALENDAR
VERSION:2.0
PRODID:-//Plone.org//NONSGML plone.app.event//EN
X-WR-TIMEZONE:Brazil/East
BEGIN:VEVENT
SUMMARY:5ª Ordinária da 1ª Sessão Legislativa da 20ª Legislatura
DTSTART;TZID=Brazil/East;VALUE=DATE-TIME:20250321T090000
DTSTAMP;VALUE=DATE-TIME:20260425T085433Z
UID:031af803665a408198bb7b6702bb26c9@www.luiscorreia.pi.leg.br
CONTACT:https://sapl.luiscorreia.pi.leg.br/sessao/218
CREATED;VALUE=DATE-TIME:20250407T115427Z
LAST-MODIFIED;VALUE=DATE-TIME:20250407T115435Z
URL:https://www.luiscorreia.pi.leg.br/institucional/eventos/5a-ordinaria-d
 a-1a-sessao-legislativa-da-20a-legislatura
END:VEVENT
BEGIN:VTIMEZONE
TZID:Brazil/East
X-LIC-LOCATION:Brazil/East
BEGIN:STANDARD
DTSTART;VALUE=DATE-TIME:20250215T230000
TZNAME:BRT
TZOFFSETFROM:-0200
TZOFFSETTO:-0300
END:STANDARD
END:VTIMEZONE
END:VCALENDAR
