BEGIN:VCALENDAR
VERSION:2.0
PRODID:-//Plone.org//NONSGML plone.app.event//EN
X-WR-TIMEZONE:Brazil/East
BEGIN:VEVENT
SUMMARY:8ª Ordinária da 4ª Sessão Legislativa da 19ª Legislatura
DTSTART;TZID=Brazil/East;VALUE=DATE-TIME:20240419T090000
DTSTAMP;VALUE=DATE-TIME:20260422T021721Z
UID:91ea965aaf5a4275be38de3ab1a2be70@www.luiscorreia.pi.leg.br
CONTACT:https://sapl.luiscorreia.pi.leg.br/sessao/190
CREATED;VALUE=DATE-TIME:20240909T132920Z
LAST-MODIFIED;VALUE=DATE-TIME:20240909T132928Z
URL:https://www.luiscorreia.pi.leg.br/institucional/eventos/8a-ordinaria-d
 a-4a-sessao-legislativa-da-19a-legislatura
END:VEVENT
BEGIN:VTIMEZONE
TZID:Brazil/East
X-LIC-LOCATION:Brazil/East
BEGIN:STANDARD
DTSTART;VALUE=DATE-TIME:20240217T230000
TZNAME:BRT
TZOFFSETFROM:-0200
TZOFFSETTO:-0300
END:STANDARD
END:VTIMEZONE
END:VCALENDAR
