BEGIN:VCALENDAR
VERSION:2.0
PRODID:-//Plone.org//NONSGML plone.app.event//EN
X-WR-TIMEZONE:Brazil/East
BEGIN:VEVENT
SUMMARY:9ª Ordinária da 3ª Sessão Legislativa da 19ª Legislatura
DTSTART;TZID=Brazil/East;VALUE=DATE-TIME:20230428T090000
DTSTAMP;VALUE=DATE-TIME:20260425T133108Z
UID:a8eb1d9b54dd4472a3d4ba18e184b500@www.luiscorreia.pi.leg.br
CONTACT:https://sapl.luiscorreia.pi.leg.br/sessao/152
CREATED;VALUE=DATE-TIME:20230713T194711Z
LAST-MODIFIED;VALUE=DATE-TIME:20230713T194738Z
URL:https://www.luiscorreia.pi.leg.br/institucional/eventos/9a-ordinaria-d
 a-3a-sessao-legislativa-da-19a-legislatura
END:VEVENT
BEGIN:VTIMEZONE
TZID:Brazil/East
X-LIC-LOCATION:Brazil/East
BEGIN:STANDARD
DTSTART;VALUE=DATE-TIME:20230225T230000
TZNAME:BRT
TZOFFSETFROM:-0200
TZOFFSETTO:-0300
END:STANDARD
END:VTIMEZONE
END:VCALENDAR
